
BEGIN:VCALENDAR
VERSION:2.0
PRODID:-//REPPX//Events//EN
BEGIN:VEVENT
UID:reppx-647722@gringopost.com
DTSTAMP:20260423T100707Z
DTSTART:20260422T113000Z
DTEND:20260422T133000Z
LOCATION:Fray Gaspar De Carvajal\, Cuenca\, Azuay\, Ecuador
SUMMARY:Voter assistance – Wed\, 4/22 – 11 AM – 1:30 PM for 2026 USA elections
DESCRIPTION:Want to receive a ballot to vote in this year's elections? Join us Wednesday\, April 22nd at La Yunta Restaurant from 11:30 AM - 1:30 PM. Let us show you how. Ave 1 de mayo Y Fray Gaspar de Carvajal. Vote From Abroad City: Cuenca 
END:VEVENT
END:VCALENDAR
