BEGIN:VCALENDAR
VERSION:2.0
PRODID:-//reppx//events//EN
CALSCALE:GREGORIAN
METHOD:PUBLISH
BEGIN:VEVENT
UID:evt-646969@gringopost.com
DTSTAMP:20260422T084555Z
DTSTART:20260426T103000Z
DTEND:20260426T103000Z
SUMMARY:DragNation Sunday Brunch
LOCATION:Eduardo Crespo Malo\, Cuenca\, Azuay\, Ecuador
DESCRIPTION:Get ready to sip\, slay\, and sparkle—because brunch just got a whole lot fiercer. Join us on Sunday\, April 26\, for a high-energy DragNation Sunday Brunch featuring dazzling performances\, bold personalities\, and nonstop entertainment. Highlights: Delectable brunch menu Delicious mimosas and cocktails Electrifying drag performances Music\, laughs\, and unforgettable vibes Whether you're celebrating something special or just living your best life\, this is your excuse to dress up (optional)\, show up\, and turn brunch into a full-on experience. Sunday\, April 26 | Doors open at 10:30 AM | Show starts at 11:00 AM at Common Grounds Sports Bar and Grill. Reservations highly recommended. Bring your friends\, your appetite\, and your best attitude—because this brunch is serving looks AND flavor. Sharon City: Municipio Apolo
URL:https://gringopost.com/646969/dragnation-sunday-brunch/
END:VEVENT
END:VCALENDAR