BEGIN:VCALENDAR
VERSION:2.0
PRODID:-//reppx//events//EN
CALSCALE:GREGORIAN
METHOD:PUBLISH
BEGIN:VEVENT
UID:evt-648081@gringopost.com
DTSTAMP:20260422T125837Z
DTSTART:20260425T193000Z
DTEND:20260425T193000Z
SUMMARY:Viva Latinoamérica: a concert to celebrate our identity!
LOCATION:Agustín Cueva Vallejo\, Cuenca\, Azuay\, Ecuador
DESCRIPTION:Latin American instruments and songs to enjoy the best repertoire prepared by the great musical group "Los Nubarrones". An excellent opportunity to connect with the enthusiasm and charisma of this excellent musical ensemble\, who will have us singing and dancing. Luz María\, 099 982 6223 City: Cuenca 
URL:https://gringopost.com/648081/viva-latinoamerica-a-concert-to-celebrate-our-identity/
END:VEVENT
END:VCALENDAR