
BEGIN:VCALENDAR
VERSION:2.0
PRODID:-//reppx//events//EN
CALSCALE:GREGORIAN
METHOD:PUBLISH
BEGIN:VEVENT
UID:evt-646937@gringopost.com
DTSTAMP:20260420T081347Z
DTSTART:20260419T090000Z
DTEND:20260419T130000Z
SUMMARY:Sensory and creative workshop with coffee
LOCATION:Simón Bolívar\, Cuenca\, Azuay\, Ecuador
DESCRIPTION:Have you ever thought of painting with coffee\, to create art?? Well come and make it real. We are gonna make art with coffee and drink some fabulous coffee. Live a unique experience with coffee We invite you to a sensory and creative workshop\, where you’ll explore coffee beyond drinking it… you’ll feel it\, understand it\, and transform it into art April 19 09 – 13 Café del Zaguán (Simón Bolívar 12-69\, between Tarqui and Juan Montalvo) What will you experience? •⁠ ⁠Coffee tasting (commercial and specialty) •⁠ ⁠Exploration of flavors\, aromas\, and the coffee process (from plant to cup) •⁠ ⁠Artistic creation using coffee-based paint •⁠ ⁠Basic guidance on materials\, textures\, and composition •⁠ ⁠ 1 drink of your choice + snack •⁠ ⁠ Take your artwork home •⁠ ⁠ Certificate of participation Price: $25 Limited spots: 20 people To secure your spot\, full payment is required If you are interested\, here is the contact number: 097 971 6436 Lucas\, 097 971 6436 City: Cuenca 
URL:https://gringopost.com/646937/sensory-and-creative-workshop-with-coffee/
END:VEVENT
END:VCALENDAR
