
BEGIN:VCALENDAR
VERSION:2.0
PRODID:-//REPPX//Events//EN
BEGIN:VEVENT
UID:reppx-647017@gringopost.com
DTSTAMP:20260420T092517Z
DTSTART:20260502T150000Z
DTEND:20260502T180000Z
LOCATION:Mariscal Lamar\, Cuenca\, Azuay\, Ecuador
SUMMARY:Tullpuna painting experience
DESCRIPTION:Grab a brush and spend the afternoon painting with us! Join local artist\, Cristian León\, for our monthly Tullpuna Painting Experience—a fun\, hands-on session open to all levels. Get tips\, try new things\, or simply enjoy a few hours of painting in good company. Cristian is there to guide and support you as much—or as little—as you’d like. This month\, we’re exploring the human form—lines\, texture\, and shape. Bring an image you’d like to paint\, or choose from a selection we’ll have available. How do you want to express the human being? Cristian will share helpful tips… and there might even be a little surprise (but you’ll have to come to find out). Saturday\, May 2 | 3–6 PM $35 — all materials included Each participant has their own creation station\, complete with paints\, brushes\, an easel\, and a canvas plate to work on. At idiomARTE Mariscal Lamar 14-25 y Estevez de Toral idiomARTE\, res@idiomartcuenca.com City: Cuenca 
END:VEVENT
END:VCALENDAR
