
BEGIN:VCALENDAR
VERSION:2.0
PRODID:-//REPPX//Events//EN
BEGIN:VEVENT
UID:reppx-634728@gringopost.com
DTSTAMP:20260423T100737Z
DTSTART:20260303T100000Z
DTEND:20260303T110000Z
LOCATION:Avenida 12 de Abril\, Huayna Cápac\, Cuenca\, Azuay\, Ecuador
SUMMARY:Gentle training for balance\, breath\, and mental focus – weekly Qigong
DESCRIPTION:Improve balance — calm the nervous system. Qigong is a low-impact movement practice that combines slow\, controlled exercises with guided breathing and focused attention. we work step by step\, focusing on one movement at a time\, making it simple to follow and accessible for all levels. The practice improves balance\, coordination\, joint mobility\, and circulation while also helping regulate the nervous system and reduce stress. By training breath and movement together\, you strengthen lung capacity — especially beneficial at Cuenca’s high altitude — and improve oxygen efficiency. Conscious breathing plays a central role. Learning how to regulate your breath helps you stay calm under pressure\, respond rather than react to stressful situations\, and maintain mental clarity and focus. Over time\, students often notice steadier balance\, clearer thinking\, and a greater sense of physical and emotional stability. Qigong is closely related to Tai Chi but is generally simpler in structure\, as it does not rely on long memorized sequences. Suitable for all ages and fitness levels. No prior experience needed. Classes are offered four times per week in different locations in Cuenca. See schedule below. Sundays and Wednesdays| 10-11 AM - Park by the Yanuncay River\, Near Restaurante La Yunta (opposite side of the river) Mondays | 9:30–10:30 AM - Los Nogales 1-20 and Tres de Noviembre ( Plaza del Rio Building)\, Reservation required for this class – limited space Tuesdays | 10–11 AM - Parque de la Madre Frida\, 098 545 2054\, linnea27strand@gmail.com City: Cuenca  
END:VEVENT
END:VCALENDAR
